BEGIN:VCALENDAR
VERSION:2.0
CALSCALE:GREGORIAN
BEGIN:VEVENT
DTSTART;TZID=Europe/Berlin:20231211T170000
DTEND;TZID=Europe/Berlin:20231212T000000
SUMMARY:Chemistry - Show Lecture
DESCRIPTION:&quot;The Zittau Campus Cop - Hangover in the Rectorate&quot;
END:VEVENT
END:VCALENDAR