BEGIN:VCALENDAR
VERSION:2.0
CALSCALE:GREGORIAN
BEGIN:VEVENT
DTSTART;TZID=Europe/Berlin:20241023T143000
DTEND;TZID=Europe/Berlin:20241024T000000
SUMMARY:CampusKompass\: Committee work and university practice
DESCRIPTION:Part 1\: Introduction to university structures and policies
END:VEVENT
END:VCALENDAR