BEGIN:VCALENDAR
VERSION:2.0
CALSCALE:GREGORIAN
BEGIN:VEVENT
DTSTART;TZID=Europe/Berlin:20241202T160000
DTEND;TZID=Europe/Berlin:20241203T000000
SUMMARY:Campus Café
DESCRIPTION:Mastering your studies\, but how...?
END:VEVENT
END:VCALENDAR