BEGIN:VCALENDAR
VERSION:2.0
CALSCALE:GREGORIAN
BEGIN:VEVENT
DTSTART;TZID=Europe/Berlin:20200317T180000
DTEND;TZID=Europe/Berlin:20200319T190000
SUMMARY:[ABGESAGT] Citizens meet science - for a beer with the researcher
DESCRIPTION:Event at the Faculty of Business Administration and Engineering Management on 17.03.2020 in Zittau
END:VEVENT
END:VCALENDAR