BEGIN:VCALENDAR
VERSION:2.0
CALSCALE:GREGORIAN
BEGIN:VEVENT
DTSTART;TZID=Europe/Berlin:20221122T170000
DTEND;TZID=Europe/Berlin:20221123T000000
SUMMARY:Participation workshops for climate protection (Zittau)
DESCRIPTION:The climate protection team is holding two participation workshops in Görlitz and Zittau. All university members are cordially invited to attend.
END:VEVENT
END:VCALENDAR