BEGIN:VCALENDAR
VERSION:2.0
CALSCALE:GREGORIAN
BEGIN:VEVENT
DTSTART;TZID=Europe/Berlin:20221110T170000
DTEND;TZID=Europe/Berlin:20221111T000000
SUMMARY:Participation workshops for climate protection (Görlitz)
DESCRIPTION:The climate protection team is holding two participation workshops in Görlitz and Zittau. All members of the university are cordially invited.
END:VEVENT
END:VCALENDAR