BEGIN:VCALENDAR
VERSION:2.0
CALSCALE:GREGORIAN
BEGIN:VEVENT
DTSTART;TZID=Europe/Berlin:20221014T114500
DTEND;TZID=Europe/Berlin:20221015T000000
SUMMARY:1. exchange digital teaching HSZG
DESCRIPTION:14-day collegial exchange of teaching staff on digital tools &amp; didactic design of teaching
END:VEVENT
END:VCALENDAR