BEGIN:VCALENDAR
VERSION:2.0
CALSCALE:GREGORIAN
BEGIN:VEVENT
DTSTART;TZID=Europe/Berlin:20221209T114500
DTEND;TZID=Europe/Berlin:20221210T000000
SUMMARY:Digital teaching exchange
DESCRIPTION:Collegial exchange of teaching staff on digital tools &amp; the didactic design of teaching
END:VEVENT
END:VCALENDAR