BEGIN:VCALENDAR
VERSION:2.0
CALSCALE:GREGORIAN
BEGIN:VEVENT
DTSTART;TZID=Europe/Berlin:20220628T140000
DTEND;TZID=Europe/Berlin:20220629T000000
SUMMARY:&quot;Age-appropriate living through technology&quot;
DESCRIPTION:TALK project event on the topic\, with lectures and technology presentation
END:VEVENT
END:VCALENDAR