BEGIN:VCALENDAR
VERSION:2.0
CALSCALE:GREGORIAN
BEGIN:VEVENT
DTSTART;TZID=Europe/Berlin:20241101T080000
DTEND;TZID=Europe/Berlin:20241201T000000
SUMMARY:&quot;Everything in flux? Water in the crisis&quot;
DESCRIPTION:The exhibition at the HSZG!
END:VEVENT
END:VCALENDAR