BEGIN:VCALENDAR
VERSION:2.0
CALSCALE:GREGORIAN
BEGIN:VEVENT
DTSTART;TZID=Europe/Berlin:20221012T161500
DTEND;TZID=Europe/Berlin:20221013T000000
SUMMARY:SeniorenKolleg\: CURRENT DEVELOPMENTS IN AVIATION HOW CAN CLIMATE GOALS BE ACHIEVED? Dipl.-Ing. Nobert Kalz\, Faculty of Economics and Management Sciences
DESCRIPTION:CURRENT DEVELOPMENTS IN AVIATION HOW ARE THE CLIMATE TARGETS TO BE ACHIEVED?Dipl.-Ing. Nobert Kalz\, prev. Faculty of Economics. Seniorenkolleg\, Wednesday\, October 12\, 4\:15 p.m.\, Görlitz\, Furtstraße 2\, Hermann-Heitkamp-Haus\, lecture hall G I / 1.01
END:VEVENT
END:VCALENDAR