BEGIN:VCALENDAR
VERSION:2.0
CALSCALE:GREGORIAN
BEGIN:VEVENT
DTSTART;TZID=Europe/Berlin:20220608T084500
DTEND;TZID=Europe/Berlin:20220609T000000
SUMMARY:4th workshop &quot;(Micro)plastic in the soil&quot;
DESCRIPTION:Workshop for young researchers on the &quot;Microplastics in the soil&quot; project
END:VEVENT
END:VCALENDAR