BEGIN:VCALENDAR
VERSION:2.0
CALSCALE:GREGORIAN
BEGIN:VEVENT
DTSTART;TZID=Europe/Berlin:20231016T090000
DTEND;TZID=Europe/Berlin:20231023T000000
SUMMARY:1st ACC Forum
DESCRIPTION:The HSZG participates as part of the Academic Coordination Center of the Neisse Euroregion (ACC) in the 1st ACC Forum in Ostritz from October 16-20\, 2023\, with the aim of improving science-based cooperation in the Neisse Euroregion.
END:VEVENT
END:VCALENDAR