BEGIN:VCALENDAR
VERSION:2.0
CALSCALE:GREGORIAN
BEGIN:VEVENT
DTSTART;TZID=Europe/Berlin:20230622T150000
DTEND;TZID=Europe/Berlin:20230625T000000
SUMMARY:ZUKUNFT LAUSITZ - How do we want to live?
DESCRIPTION:Intergenerational dialog
END:VEVENT
END:VCALENDAR