BEGIN:VCALENDAR
VERSION:2.0
CALSCALE:GREGORIAN
BEGIN:VEVENT
DTSTART;TZID=Europe/Berlin:20230106T150000
DTEND;TZID=Europe/Berlin:20230107T000000
SUMMARY:Zittau Kinder Academy\: Remote sensing of the earth from space
DESCRIPTION:Remote Sensing of the Earth from Space - Prof. Dr.-Ing. Bernd Teichert\, HTW Dresden\, Faculty of Geoinformation
END:VEVENT
END:VCALENDAR