BEGIN:VCALENDAR
VERSION:2.0
CALSCALE:GREGORIAN
BEGIN:VEVENT
DTSTART;TZID=Europe/Berlin:20250218T130000
DTEND;TZID=Europe/Berlin:20250219T000000
SUMMARY:Welcome to the HSZG! Webinar for new international students
DESCRIPTION:
END:VEVENT
END:VCALENDAR