BEGIN:VCALENDAR
VERSION:2.0
CALSCALE:GREGORIAN
BEGIN:VEVENT
DTSTART;TZID=Europe/Berlin:20240522T170000
DTEND;TZID=Europe/Berlin:20240523T000000
SUMMARY:Lecture evening on the topic &quot;Umgebindehäuser - Sustainable in construction and use?&quot;
DESCRIPTION:Every year\, the Information Center Umgebindehaus (IZU) holds a lecture evening on the Wednesday before the Umgebindehaus Open House Day.
END:VEVENT
END:VCALENDAR