BEGIN:VCALENDAR
VERSION:2.0
CALSCALE:GREGORIAN
BEGIN:VEVENT
DTSTART;TZID=Europe/Berlin:20230627T083000
DTEND;TZID=Europe/Berlin:20230628T000000
SUMMARY:vocatium Magdeburg 2023 - Maritim Hotel 27.06.2023
DESCRIPTION:
END:VEVENT
END:VCALENDAR