BEGIN:VCALENDAR
VERSION:2.0
CALSCALE:GREGORIAN
BEGIN:VEVENT
DTSTART;TZID=Europe/Berlin:20231108T083000
DTEND;TZID=Europe/Berlin:20231109T000000
SUMMARY:vocatium Dresden 2023 - Messe Dresden 03.11.2023
DESCRIPTION:The HSZG presents itself at the vocatium 2023 at the Messe Dresden.Admission free.
END:VEVENT
END:VCALENDAR