BEGIN:VCALENDAR
VERSION:2.0
CALSCALE:GREGORIAN
BEGIN:VEVENT
DTSTART;TZID=Europe/Berlin:20230614T083000
DTEND;TZID=Europe/Berlin:20230615T000000
SUMMARY:vocatium Dresden 2023 - Dresden Airport 14.06.2023
DESCRIPTION:
END:VEVENT
END:VCALENDAR