BEGIN:VCALENDAR
VERSION:2.0
CALSCALE:GREGORIAN
BEGIN:VEVENT
DTSTART;TZID=Europe/Berlin:20240522T083000
DTEND;TZID=Europe/Berlin:20240523T000000
SUMMARY:Vocatium Cottbus 2024
DESCRIPTION:The HSZG presents itself at Vocatium 2024 at the Cottbus trade fair.Admission free.
END:VEVENT
END:VCALENDAR