BEGIN:VCALENDAR
VERSION:2.0
CALSCALE:GREGORIAN
BEGIN:VEVENT
DTSTART;TZID=Europe/Berlin:20241211T140000
DTEND;TZID=Europe/Berlin:20241212T000000
SUMMARY:Postponed\: Companies introduce themselves (2/3)
DESCRIPTION:An opportunity to get to know potential employers and make professional contacts.
END:VEVENT
END:VCALENDAR