BEGIN:VCALENDAR
VERSION:2.0
CALSCALE:GREGORIAN
BEGIN:VEVENT
DTSTART;TZID=Europe/Berlin:20230426T140000
DTEND;TZID=Europe/Berlin:20230427T000000
SUMMARY:TRAWOS research colloquium
DESCRIPTION:Presentation of the TRAWOS project &quot;FioKo&quot; with Bernadette Rohlf
END:VEVENT
END:VCALENDAR