BEGIN:VCALENDAR
VERSION:2.0
CALSCALE:GREGORIAN
BEGIN:VEVENT
DTSTART;TZID=Europe/Berlin:20240118T121500
DTEND;TZID=Europe/Berlin:20240119T000000
SUMMARY:TRAWOS research colloquium
DESCRIPTION:Presentation of the TRAWOS project &quot;BePart - Participation and partnerships in structural change&quot;
END:VEVENT
END:VCALENDAR