BEGIN:VCALENDAR
VERSION:2.0
CALSCALE:GREGORIAN
BEGIN:VEVENT
DTSTART;TZID=Europe/Berlin:20231019T121500
DTEND;TZID=Europe/Berlin:20231021T000000
SUMMARY:TRAWOS research colloquium
DESCRIPTION:Metamodernity - by and with Dr. phil. habil. Maik Hosang
END:VEVENT
END:VCALENDAR