BEGIN:VCALENDAR
VERSION:2.0
CALSCALE:GREGORIAN
BEGIN:VEVENT
DTSTART;TZID=Europe/Berlin:20230118T140000
DTEND;TZID=Europe/Berlin:20230119T000000
SUMMARY:TRAWOS internal research colloquium
DESCRIPTION:On (everyday) racism and elderly care in East Germany\: An invitation to reflect\, exchange and criticize after four years of doctoral research\, with Monique Ritter.
END:VEVENT
END:VCALENDAR