BEGIN:VCALENDAR
VERSION:2.0
CALSCALE:GREGORIAN
BEGIN:VEVENT
DTSTART;TZID=Europe/Berlin:20221019T140000
DTEND;TZID=Europe/Berlin:20221020T000000
SUMMARY:TRAWOS research colloquium
DESCRIPTION:Privileged outsiders. An analysis of social patterns of interpretation using the example of pastors&#039; children in the GDR.
END:VEVENT
END:VCALENDAR