BEGIN:VCALENDAR
VERSION:2.0
CALSCALE:GREGORIAN
BEGIN:VEVENT
DTSTART;TZID=Europe/Berlin:20230615T121500
DTEND;TZID=Europe/Berlin:20230616T000000
SUMMARY:TRAWOS research colloquium
DESCRIPTION:Presentation of the TRAWOS project &quot;ATRAKTIV&quot; with Leonie Liemich
END:VEVENT
END:VCALENDAR