BEGIN:VCALENDAR
VERSION:2.0
CALSCALE:GREGORIAN
BEGIN:VEVENT
DTSTART;TZID=Europe/Berlin:20240612T140000
DTEND;TZID=Europe/Berlin:20240613T000000
SUMMARY:Toxic masculinity - dropout program for beginners
DESCRIPTION:A workshop on feminism for the man of today
END:VEVENT
END:VCALENDAR