BEGIN:VCALENDAR
VERSION:2.0
CALSCALE:GREGORIAN
BEGIN:VEVENT
DTSTART;TZID=Europe/Berlin:20240922T140000
DTEND;TZID=Europe/Berlin:20240923T000000
SUMMARY:Experience Taiwan in Zittau
DESCRIPTION:Taiwanese cultural event and themed book exhibition to kick off the Intercultural Week in the district of Görlitz
END:VEVENT
END:VCALENDAR