BEGIN:VCALENDAR
VERSION:2.0
CALSCALE:GREGORIAN
BEGIN:VEVENT
DTSTART;TZID=Europe/Berlin:20241109T100000
DTEND;TZID=Europe/Berlin:20241110T000000
SUMMARY:Student advisory service\: Unibörse Pirna
DESCRIPTION:
END:VEVENT
END:VCALENDAR