BEGIN:VCALENDAR
VERSION:2.0
CALSCALE:GREGORIAN
BEGIN:VEVENT
DTSTART;TZID=Europe/Berlin:20241002T120000
DTEND;TZID=Europe/Berlin:20241003T000000
SUMMARY:StrukturWANDEL Conference
DESCRIPTION:Gender equality in transformation processes
END:VEVENT
END:VCALENDAR