BEGIN:VCALENDAR
VERSION:2.0
CALSCALE:GREGORIAN
BEGIN:VEVENT
DTSTART;TZID=Europe/Berlin:20220916T120000
DTEND;TZID=Europe/Berlin:20220917T000000
SUMMARY:Structure change - structure\, we change you!
DESCRIPTION:More gender equality in structural change - A conference of the Alliance of Municipal Equal Opportunities Officers of Lausitz in Structural Change and the Institute for Applied Participation (ifab) e. V.
END:VEVENT
END:VCALENDAR