BEGIN:VCALENDAR
VERSION:2.0
CALSCALE:GREGORIAN
BEGIN:VEVENT
DTSTART;TZID=Europe/Berlin:20241113T130000
DTEND;TZID=Europe/Berlin:20241114T000000
SUMMARY:Speed dating with companies\: Discover your career opportunities! (2/3)
DESCRIPTION:Get to know potential employers in a speed dating format and discover exciting career opportunities!
END:VEVENT
END:VCALENDAR