BEGIN:VCALENDAR
VERSION:2.0
CALSCALE:GREGORIAN
BEGIN:VEVENT
DTSTART;TZID=Europe/Berlin:20221026T103000
DTEND;TZID=Europe/Berlin:20221027T000000
SUMMARY:Social counseling in Görlitz
DESCRIPTION:Consultation hours take place on the fourth Wednesday of every month during the semester. The next opportunity for a consultation will be on November 23.
END:VEVENT
END:VCALENDAR