BEGIN:VCALENDAR
VERSION:2.0
CALSCALE:GREGORIAN
BEGIN:VEVENT
DTSTART;TZID=Europe/Berlin:20231108T143000
DTEND;TZID=Europe/Berlin:20231109T000000
SUMMARY:Meeting of the Working Group for Gender Equality\, Inclusion\, Women&#039;s and Diversity Studies (AGIFD)
DESCRIPTION:
END:VEVENT
END:VCALENDAR