BEGIN:VCALENDAR
VERSION:2.0
CALSCALE:GREGORIAN
BEGIN:VEVENT
DTSTART;TZID=Europe/Berlin:20240110T143000
DTEND;TZID=Europe/Berlin:20240111T000000
SUMMARY:Training in literature research and electronic media (HSB Görlitz)
DESCRIPTION:Introduction to researching and using electronic media in the University Library
END:VEVENT
END:VCALENDAR