BEGIN:VCALENDAR
VERSION:2.0
CALSCALE:GREGORIAN
BEGIN:VEVENT
DTSTART;TZID=Europe/Berlin:20231129T143000
DTEND;TZID=Europe/Berlin:20231130T000000
SUMMARY:Training in literature research and electronic media
DESCRIPTION:Introduction to researching and using electronic media in the University Library
END:VEVENT
END:VCALENDAR