BEGIN:VCALENDAR
VERSION:2.0
CALSCALE:GREGORIAN
BEGIN:VEVENT
DTSTART;TZID=Europe/Berlin:20240625T140000
DTEND;TZID=Europe/Berlin:20240626T000000
SUMMARY:Training\: Literature research with AI
DESCRIPTION:Series of events in the University Library
END:VEVENT
END:VCALENDAR