BEGIN:VCALENDAR
VERSION:2.0
CALSCALE:GREGORIAN
BEGIN:VEVENT
DTSTART;TZID=Europe/Berlin:20240327T140000
DTEND;TZID=Europe/Berlin:20240328T000000
SUMMARY:School network\: Collegial exchange on the topic of &quot;ChatGPT in the school context&quot;
DESCRIPTION:An insight into the possible uses of ChatGPT in everyday (organizational) school life.
END:VEVENT
END:VCALENDAR