BEGIN:VCALENDAR
VERSION:2.0
CALSCALE:GREGORIAN
BEGIN:VEVENT
DTSTART;TZID=Europe/Berlin:20240628T104500
DTEND;TZID=Europe/Berlin:20240629T000000
SUMMARY:Space adventure - session for pupils
DESCRIPTION:Exciting insights with mission leader Volker Schmid
END:VEVENT
END:VCALENDAR