BEGIN:VCALENDAR
VERSION:2.0
CALSCALE:GREGORIAN
BEGIN:VEVENT
DTSTART;TZID=Europe/Berlin:20230629T161500
DTEND;TZID=Europe/Berlin:20230630T000000
SUMMARY:Lecture series\: &quot;From environmental management to climate management - or from European pioneer to university policy (re)invention?&quot;
DESCRIPTION:
END:VEVENT
END:VCALENDAR