BEGIN:VCALENDAR
VERSION:2.0
CALSCALE:GREGORIAN
BEGIN:VEVENT
DTSTART;TZID=Europe/Berlin:20220602T190000
DTEND;TZID=Europe/Berlin:20220603T000000
SUMMARY:Lecture series as part of the East-West College in the summer semester 2022 - &quot;Life on the border&quot;
DESCRIPTION:&quot;Social services - forgotten potential of Lausitz?&quot;hybrid via edudip and at the Görlitz campus\, GI\, lecture hall 0.01
END:VEVENT
END:VCALENDAR