BEGIN:VCALENDAR
VERSION:2.0
CALSCALE:GREGORIAN
BEGIN:VEVENT
DTSTART;TZID=Europe/Berlin:20230613T180000
DTEND;TZID=Europe/Berlin:20230614T000000
SUMMARY:Lecture series\: Healthcare between medicine and economics
DESCRIPTION:
END:VEVENT
END:VCALENDAR