BEGIN:VCALENDAR
VERSION:2.0
CALSCALE:GREGORIAN
BEGIN:VEVENT
DTSTART;TZID=Europe/Berlin:20230509T180000
DTEND;TZID=Europe/Berlin:20230510T000000
SUMMARY:Lecture series\: Dementia\: &quot;My relative is suddenly so angry with me?&quot;
DESCRIPTION:
END:VEVENT
END:VCALENDAR