BEGIN:VCALENDAR
VERSION:2.0
CALSCALE:GREGORIAN
BEGIN:VEVENT
DTSTART;TZID=Europe/Berlin:20220913T190000
DTEND;TZID=Europe/Berlin:20220914T000000
SUMMARY:Right-wing populism\, but normal?
DESCRIPTION:Reading and talks
END:VEVENT
END:VCALENDAR