BEGIN:VCALENDAR
VERSION:2.0
CALSCALE:GREGORIAN
BEGIN:VEVENT
DTSTART;TZID=Europe/Berlin:20240806T130000
DTEND;TZID=Europe/Berlin:20240807T000000
SUMMARY:Research consultation
DESCRIPTION:Series of events in the University Library
END:VEVENT
END:VCALENDAR