BEGIN:VCALENDAR
VERSION:2.0
CALSCALE:GREGORIAN
BEGIN:VEVENT
DTSTART;TZID=Europe/Berlin:20220929T130000
DTEND;TZID=Europe/Berlin:20220930T000000
SUMMARY:Quality criteria and possibilities of occupational health management
DESCRIPTION:
END:VEVENT
END:VCALENDAR