BEGIN:VCALENDAR
VERSION:2.0
CALSCALE:GREGORIAN
BEGIN:VEVENT
DTSTART;TZID=Europe/Berlin:20250227T110000
DTEND;TZID=Europe/Berlin:20250228T000000
SUMMARY:Personal consultation hours at the employment agency
DESCRIPTION:
END:VEVENT
END:VCALENDAR