BEGIN:VCALENDAR
VERSION:2.0
CALSCALE:GREGORIAN
BEGIN:VEVENT
DTSTART;TZID=Europe/Berlin:20250130T160000
DTEND;TZID=Europe/Berlin:20250131T000000
SUMMARY:Online course - The foundation process
DESCRIPTION:This event will show you how to turn an idea into a successful business concept.
END:VEVENT
END:VCALENDAR